Workbook
Name _ftn1: "'piano econ. dettaglio'!#ref!"
Name _ftnref1: "'piano econ. dettaglio'!#ref!"

Sheet Piano_econ__dettaglio
A1: AVVISO PUBBLICO - ANNUALITA’ 2021 DECRETO DEL PRESIDENTE DEL CONSIGLIO DEI MINISTRI 30 settembre 2021 FONDO COMUNI MARGINALI
B2: ALLEGATO B - Piano economico della proposta progettuale
A3: Denominazione Impresa
B4: Sede dell'unità sede dell'intervento (Comune)
B5: Titolo progetto
A7: PIANO ECONOMICO DI DETTAGLIO
B8: VOCE DI SPESA (lettere a, b, c, d, e, art. 5 “Spese Ammissibili” dell’Avviso) | C8: Importo preventivo (€) | D8: Totale per Voce di spesa | E8: Nominativo fornitore | F8: rif. Preventivo/computo allegato (nota 1)
A9: a) Macchinari, impianti e attrezzature
B10: scaffali
B17: Totale voce a) Macchinari, impianti e attrezzature | C17: =SUM(C10:C16) -> 0 | D17: =+C17 -> 0
A18: b) Opere murarie ed impiantistiche
B25: Totale voce b) Opere murarie ed impiantistiche | C25: =SUM(C19:C24) -> 0 | D25: =+C25 -> 0
A26: c) Programmi informatici
B31: Totale voce c) Programmi informatici, brevetti, licenze | C31: =SUM(C27:C30) -> 0 | D31: =+C31 -> 0
A32: d) Servizi di consulenza (limite 20%)
B37: Totale voce d) Servizi di consulenza | C37: =SUM(C33:C36) -> 0 | D37: =+C37 -> 0
A38: e) Polizze assicurative (limite 10%)
B43: Totale voce e) Polizze assicurative | C43: =SUM(C39:C42) -> 0 | D43: =+C43 -> 0
B44: totali | C44: =C17+C25+C31+C37+C43 -> 0 | D44: =D17+D25+D31+D37+D43 -> 0
B47: nota 1: Per consentire una pronta correlazione con gli importi riportati nel Piano economico di dettaglio, si suggerisce di identificare i preventivi mediante numerazione progressiva o altra modalità utile a tal fine.
B48: nota 2: compilare solo il piano economico - dettaglio.

Sheet Piano_econ__generale
A1: AVVISO PUBBLICO - ANNUALITA’ 2021 DECRETO DEL PRESIDENTE DEL CONSIGLIO DEI MINISTRI 30 settembre 2021 FONDO COMUNI MARGINALI
B2: ALLEGATO B - Piano economico della proposta progettuale
A4: Denominazione Impresa | C4: =+Piano_econ__dettaglio!C3 -> 0
B5: Sede dell'unità sede dell'intervento (Comune) | C5: =+Piano_econ__dettaglio!C4 -> 0
B6: Titolo progetto | C6: =+Piano_econ__dettaglio!C5 -> 0
A9: PIANO ECONOMICO GENERALE
A10: SPESE AMMISSIBILI | C10: Importo effettivo come risultante da preventivi di spesa (Piano economico di dettaglio) | D10: Massimali di spesa | E10: Spesa ammissibile
A11: a) | B11: a) Macchinari, impianti e attrezzature | C11: =+Piano_econ__dettaglio!C17 -> 0 | E11: =C11 -> 0 | F11: =IF(#REF!="Piccola impresa",50%,IF(#REF!="Media impresa",40%,)) -> #REF! | G11: =IF(#REF!="SI",5%,0%) -> #REF!
A12: b) | B12: Opere murarie ed impiantistiche | C12: =+Piano_econ__dettaglio!C25 -> 0 | E12: =C12 -> 0 | F12: =IF(#REF!="Piccola impresa",50%,IF(#REF!="Media impresa",40%,)) -> #REF! | G12: =IF(#REF!="SI",5%,0%) -> #REF!
A13: c) | B13: Programmi informatici | C13: =+Piano_econ__dettaglio!C31 -> 0 | E13: =C13 -> 0 | F13: =IF(#REF!="Piccola impresa",70%,IF(#REF!="Media impresa",60%,)) -> #REF! | G13: 0
A14: d) | B14: Servizi di consulenza | C14: =+Piano_econ__dettaglio!C37 -> 0 | E14: =C14 -> 0 | F14: =IF(#REF!="Piccola impresa",70%,IF(#REF!="Media impresa",60%,)) -> #REF! | G14: 0
A15: TOTALI | C15: =SUM(C11:C14) -> 0 | E15: =SUM(E11:E14) -> 0
B18: Data, timbro e firma del titolare, legale rappresentante o procuratore speciale
B19: (firma resa autentica allegando copia di documento di identità ai sensi dell’art. 38 DPR 445/2000)
